BEGIN:VCALENDAR
VERSION:2.0
METHOD:PUBLISH
X-WR-CALNAME:wwuh.org |  April 02 2014- April 02 2014
PRODID:-//strange bird labs//Drupal iCal API//EN
BEGIN:VEVENT
DTSTAMP;VALUE=DATE-TIME:20260425T155559Z
DTSTART;VALUE=DATE-TIME:20140401T080000Z
DTEND;VALUE=DATE-TIME:20140402T170000Z
UID:http://wwuh.org/00947-new-world-notes-gmos-are-bad-system-worse
URL;VALUE=URI:http://wwuh.org/00947-new-world-notes-gmos-are-bad-system-worse
SUMMARY:New World Notes - GMOs Are Bad. The System Is Worse.
DESCRIPTION:<div>
 	&nbsp\;</div>
 <div>
 <p>This week on&nbsp\;<a href=\\"http\://newworldnotes.blogspot.com/\\" target=\\"_blank\\">New World Notes</a>\: radio program #317\, April 1\, 2014\, from 12\:00 to 12\:30 p.m. (and on Wednesday from 8\:30 to 9\:00 p.m.)\, host Kenneth Dowst excerpts a speech by Mickey Z (Mike Zezima) given at a rally in Washington Square Park\, New York City\, on May 25\, 2013.</p>
 </div>
END:VEVENT
END:VCALENDAR
